BEGIN:VCALENDAR
VERSION:2.0
PRODID:-//Innovate Queensland - ECPv5.6.0//NONSGML v1.0//EN
CALSCALE:GREGORIAN
METHOD:PUBLISH
X-WR-CALNAME:Innovate Queensland
X-ORIGINAL-URL:https://www.innovateqld.com
X-WR-CALDESC:Events for Innovate Queensland
BEGIN:VTIMEZONE
TZID:Australia/Brisbane
BEGIN:STANDARD
TZOFFSETFROM:+1000
TZOFFSETTO:+1000
TZNAME:AEST
DTSTART:20160101T000000
END:STANDARD
END:VTIMEZONE
BEGIN:VEVENT
DTSTART;TZID=Australia/Brisbane:20160216T130000
DTEND;TZID=Australia/Brisbane:20160216T170000
DTSTAMP:20260420T005219
CREATED:20160122T183433Z
LAST-MODIFIED:20160126T125514Z
UID:827-1455627600-1455642000@www.innovateqld.com
SUMMARY:Change the Future commercialisation workshop - Ipswich
DESCRIPTION:WORKSHOP DESCRIPTION – click to discover what you’ll learn! \nSee below for venue and other details\, including how to reserve your place.
URL:https://www.innovateqld.com/event/change-the-future-commercialisation-workshop-ipswich/
LOCATION:Queens Park Education Centre\, Merle Finimore Avenue\, Ipswich\, Queensland\, 4305\, Australia
CATEGORIES:Pathways
END:VEVENT
END:VCALENDAR