BEGIN:VCALENDAR
VERSION:2.0
PRODID:-//Innovate Queensland - ECPv5.6.0//NONSGML v1.0//EN
CALSCALE:GREGORIAN
METHOD:PUBLISH
X-WR-CALNAME:Innovate Queensland
X-ORIGINAL-URL:https://www.innovateqld.com
X-WR-CALDESC:Events for Innovate Queensland
BEGIN:VTIMEZONE
TZID:Australia/Brisbane
BEGIN:STANDARD
TZOFFSETFROM:+1000
TZOFFSETTO:+1000
TZNAME:AEST
DTSTART:20160101T000000
END:STANDARD
END:VTIMEZONE
BEGIN:VEVENT
DTSTART;TZID=Australia/Brisbane:20160630T083000
DTEND;TZID=Australia/Brisbane:20160630T133000
DTSTAMP:20260420T215238
CREATED:20160604T125900Z
LAST-MODIFIED:20160607T221913Z
UID:2005-1467275400-1467293400@www.innovateqld.com
SUMMARY:Change the Future INNOVATION workshop - Logan
DESCRIPTION:This workshop is ideal for established enterprises with a team (or teams) of people wanting to integrate innovation more effectively.\nWORKSHOP DESCRIPTION – click to discover what you’ll learn! \n  \nSee below for venue and other details\, including how to reserve your place.
URL:https://www.innovateqld.com/event/change-the-future-innovation-workshop-logan/
LOCATION:Springwood Tower Apartment Hotel\, 9 Murrajong Rd\, Springwood\, Queensland\, 4127\, Australia
CATEGORIES:Pathways
END:VEVENT
END:VCALENDAR