BEGIN:VCALENDAR
VERSION:2.0
PRODID:-//Innovate Queensland - ECPv5.6.0//NONSGML v1.0//EN
CALSCALE:GREGORIAN
METHOD:PUBLISH
X-WR-CALNAME:Innovate Queensland
X-ORIGINAL-URL:https://www.innovateqld.com
X-WR-CALDESC:Events for Innovate Queensland
BEGIN:VTIMEZONE
TZID:Australia/Brisbane
BEGIN:STANDARD
TZOFFSETFROM:+1000
TZOFFSETTO:+1000
TZNAME:AEST
DTSTART:20180101T000000
END:STANDARD
END:VTIMEZONE
BEGIN:VEVENT
DTSTART;TZID=Australia/Brisbane:20180628T173000
DTEND;TZID=Australia/Brisbane:20180628T193000
DTSTAMP:20260420T203051
CREATED:20180517T003657Z
LAST-MODIFIED:20180627T054639Z
UID:3858-1530207000-1530214200@www.innovateqld.com
SUMMARY:Collaboration Quickstep - Brisbane - Cancelled
DESCRIPTION:Collaboration begins with finding the right partners – but how? \nDon’t be a wallflower … learn the Collaboration Quick-Step with Innovate Queensland’s experienced instructors. In less than 60 minutes your dance card will be filled with contacts for other enterprise owners who can help you overcome your particular business challenges. \nIt doesn’t matter if you have two left feet\, you’re shy\, or you’ve run out of business cards – in the Collaboration Quick-Step\, the Innovate Queensland team will lead you through an upbeat choreography of purposeful interactions with people whose smart ideas can help you swing change in your business. \nYou won’t need dancing skills\, soft-soled shoes\, suit tails or bling because the Collaboration Quick-Step is just ballroom for the brain! But do bring your bright ideas and a willingness to listen and help other people with their business challenges. \nIf you have a business-related challenge that needs some innovative input to solve\, this event is an excellent opportunity for you to share it and find collaboration partners to help you. \nRemember: Businesses that innovate collaboratively are 23% more likely to report increased productivity. Come and get your dance card! \n 
URL:https://www.innovateqld.com/event/collaboration-quickstep-brisbane-28-june-18/
LOCATION:RCL Event Space\, The Precinct\, Level 3\, 315 Brunswick Street\, Fortitude Valley\, Brisbane\, QLD\, 4006\, Australia
CATEGORIES:IQ Link
END:VEVENT
END:VCALENDAR