BEGIN:VCALENDAR
VERSION:2.0
PRODID:-//Innovate Queensland - ECPv5.6.0//NONSGML v1.0//EN
CALSCALE:GREGORIAN
METHOD:PUBLISH
X-WR-CALNAME:Innovate Queensland
X-ORIGINAL-URL:https://www.innovateqld.com
X-WR-CALDESC:Events for Innovate Queensland
BEGIN:VTIMEZONE
TZID:Australia/Brisbane
BEGIN:STANDARD
TZOFFSETFROM:+1000
TZOFFSETTO:+1000
TZNAME:AEST
DTSTART:20160101T000000
END:STANDARD
END:VTIMEZONE
BEGIN:VEVENT
DTSTART;TZID=Australia/Brisbane:20160119T120000
DTEND;TZID=Australia/Brisbane:20160119T130000
DTSTAMP:20260420T030738
CREATED:20151101T174948Z
LAST-MODIFIED:20160126T132937Z
UID:433-1453204800-1453208400@www.innovateqld.com
SUMMARY:10 Tips to Secure Funding to Take Your Great Idea to Market
DESCRIPTION:View it on YouTube. \n\n\nPresenter: Anne-Marie Birkill\nOrganisation: OneVentures \n  \nAnne-Marie Birkill is a Partner in OneVentures\, the manager for two venture capital funds and a number of associated co-investment funds with $170M funds under management. OneVentures backs innovative companies with global relevance in healthcare\, education\, mobile\, cloud computing and new media. Anne-Marie is a Director for portfolio companies Paloma Mobile\, \, Charm Health and Find-Me. \nAnne-Marie has forged a career in the field of technology commercialisation. She has worked with hundreds of early-stage technology companies as senior executive\, advisor and business coach. Her previous roles have included CEO of i.lab Incubator\, various senior management appointments at UniQuest and Director of ASX listed energy storage company RedFlow Limited. \nAn active member of the innovation community\, she is an Industry Fellow with The UQ Business School\, a Director for AVCAL and Creative Enterprise Australia and a member of the Investment Committee for the Queensland Government’s Advance Queensland Business Development Fund. She has won a number of awards acknowledging her contribution including the 2014 WiT Life Sciences Outstanding Achievement Award and was named as one of YWCAs 125 Leading Women in 2013. \nTOPIC \nMany great ideas\, inventions and innovations struggle to get off the lab bench or out of the back yard shed through lack of capital. \nThere are many sources of funding available\, but competition is fierce and often it isn’t the best idea that gets funded – it is the one backed by someone who really knows how to prepare for\, approach and engage with investors. \nIn this Innovate Queensland GRID webinar\, Anne-Marie will suggest  10 practical tips to secure funding – from how to work out which investors to approach\, to how to conduct yourself when you get to the point of negotiating a term sheet.
URL:https://www.innovateqld.com/event/fund-idea-to-market/
LOCATION:Online
CATEGORIES:GRID
END:VEVENT
END:VCALENDAR