BEGIN:VCALENDAR
VERSION:2.0
PRODID:-//Innovate Queensland - ECPv5.6.0//NONSGML v1.0//EN
CALSCALE:GREGORIAN
METHOD:PUBLISH
X-WR-CALNAME:Innovate Queensland
X-ORIGINAL-URL:https://www.innovateqld.com
X-WR-CALDESC:Events for Innovate Queensland
BEGIN:VTIMEZONE
TZID:Australia/Brisbane
BEGIN:STANDARD
TZOFFSETFROM:+1000
TZOFFSETTO:+1000
TZNAME:AEST
DTSTART:20180101T000000
END:STANDARD
END:VTIMEZONE
BEGIN:VEVENT
DTSTART;TZID=Australia/Brisbane:20180413T123000
DTEND;TZID=Australia/Brisbane:20180413T123000
DTSTAMP:20260422T024400
CREATED:20180406T075030Z
LAST-MODIFIED:20180406T075030Z
UID:3744-1523622600-1523622600@www.innovateqld.com
SUMMARY:Webinar: Ignite Ideas Fund – Round 4
DESCRIPTION:Presenter: Brian Ruddle\nOrganisation: Impact Innovation Group \nDoes your market-ready innovative idea have the potential to significantly disrupt or ‘step-change’ key industries in Queensland\, but needs a kick-start in cash flow to make it happen? \nThe Queensland Government has just released a fourth round of Ignite Ideas funding to support start-ups and SMEs wanting to access up to $250\, 000 to help them grow\, compete in a global market\, and create new jobs. \nIn this webinar\, Brian Ruddle\, Managing Director at Impact Innovation Group\, will discuss what’s new this round\, the need-to-know eligibility and assessment criteria\, and commonly overlooked FAQs. \nBrian will also offer tips for preparing a strong application\, and ideas for sourcing and accessing useful information. Hearing about the key lessons learnt from applicants of previous rounds will help you position your ideas for success. \n  \nAbout the Presenter \nBrian Ruddle\, Managing Director at the Impact Innovation Group\, has been both a pitcher and a panellist for innovation funding. He has helped several start-up companies raise between $450\,000 and $2 million in seed rounds\, and negotiated many licence agreements with Australian and international companies to help start-ups and SMEs get new products and services ready for the market. He has also participated on numerous assessment panels\, helping government and private investors evaluate which proposals are likely to deliver the best outcomes for the funds available — commercially\, economically and socially. \nMissed a webinar? You’ll find recordings of previous webinars on the Innovate Queensland YouTube channel.
URL:https://www.innovateqld.com/event/igniteideasfund-13-april18/
LOCATION:Online
CATEGORIES:GRID
END:VEVENT
END:VCALENDAR