BEGIN:VCALENDAR
VERSION:2.0
PRODID:-//Innovate Queensland - ECPv5.6.0//NONSGML v1.0//EN
CALSCALE:GREGORIAN
METHOD:PUBLISH
X-WR-CALNAME:Innovate Queensland
X-ORIGINAL-URL:https://www.innovateqld.com
X-WR-CALDESC:Events for Innovate Queensland
BEGIN:VTIMEZONE
TZID:Australia/Brisbane
BEGIN:STANDARD
TZOFFSETFROM:+1000
TZOFFSETTO:+1000
TZNAME:AEST
DTSTART:20170101T000000
END:STANDARD
END:VTIMEZONE
BEGIN:VEVENT
DTSTART;TZID=Australia/Brisbane:20170927T090000
DTEND;TZID=Australia/Brisbane:20170927T130000
DTSTAMP:20260420T161309
CREATED:20170801T003042Z
LAST-MODIFIED:20170801T003042Z
UID:2988-1506502800-1506517200@www.innovateqld.com
SUMMARY:The Money Magnet Masterclass - Logan
DESCRIPTION:Boost your idea’s power to attract investment.\n\nThis half-day masterclass is designed for people and established enterprises with innovative ideas they want to take to the market\, such as SMEs\, start-ups and innovation teams within larger organisations. \nDid you know… \n\nAccess to additional funding is cited by Australian businesses as the biggest barrier to innovation.\nThe Advance Queensland initiative has allocated $420M of competitive grant funding for businesses to help them bring innovative ideas to market.\nPrivate equity-backed firms\, on average\, grow their workforces at a compound annual growth rate of 27.6% over a five-year ownership period.\nIn the last five years\, venture capital funds have invested over $650M into tech startups based in Australia.\n\nLearn how to communicate the potential value of your innovative ideas to grant assessors\, venture capital firms\, industry backers\, and other potential project partners. \nBoth the Queensland and federal governments are offering unprecedented funding\, tax incentives and other investment initiatives so that business can benefit from commercialising ideas and intellectual assets – but many innovators lack the confidence or know-how to successfully stimulate interest from financial supporters. \nHaving a game-changing idea isn’t enough. You need a clear value proposition\, sound business case\, and a solid understanding of what public and private investors expect from your pitch or proposal. \nThe Money Magnet Masterclass explains how to: \n\nconvince selection panels/investors of your idea’s value\npitch its market potential and your opportunity\nstructure an effective project plan\ndemonstrate capacity to deliver a return on investment\ncommunicate your team’s capability\nmanage risks and remove ‘red flags’\n\nFind out what else the masterclass covers.  \nMore than 1000 people have attended Pathways workshops and given them an overall satisfaction rating of 92%. In surveys\, nearly 60% have reported they’ve already taken their innovation plans further. That means they’re on their way to becoming more competitive and successful. \nAre you ready for your innovative ideas to attract investment? \nRegister now – see below for details. \nRegistrations close 25 September\, unless all places have been taken sooner. \n 
URL:https://www.innovateqld.com/event/money-magnet-masterclass-logan/
LOCATION:Logan City Council Administration Centre\, 150 Wembley Rd\, Logan Central\, QLD\, 4114\, Australia
CATEGORIES:Pathways
END:VEVENT
END:VCALENDAR