BEGIN:VCALENDAR
VERSION:2.0
PRODID:-//Innovate Queensland - ECPv5.6.0//NONSGML v1.0//EN
CALSCALE:GREGORIAN
METHOD:PUBLISH
X-WR-CALNAME:Innovate Queensland
X-ORIGINAL-URL:https://www.innovateqld.com
X-WR-CALDESC:Events for Innovate Queensland
BEGIN:VTIMEZONE
TZID:Australia/Brisbane
BEGIN:STANDARD
TZOFFSETFROM:+1000
TZOFFSETTO:+1000
TZNAME:AEST
DTSTART:20180101T000000
END:STANDARD
END:VTIMEZONE
BEGIN:VEVENT
DTSTART;TZID=Australia/Brisbane:20180925T120000
DTEND;TZID=Australia/Brisbane:20180925T130000
DTSTAMP:20260421T011003
CREATED:20180903T024524Z
LAST-MODIFIED:20180903T024524Z
UID:4042-1537876800-1537880400@www.innovateqld.com
SUMMARY:Webinar: Strategic Innovation
DESCRIPTION:Presenter: Lewis Atkinson\nOrganisation: Impact Innovation Group \nWhen Australian businesses are being established\, they are taught the importance of financial viability\, sustainable business models and having a long-term strategy. Yet\, once the business is established\, very few are taught how to react to market\, client and industry change.  \nThis action of strategic innovation allows firms to incorporate emotional intelligence which exists\, both within the founder and the business\, to identify and comprehend market forces\, consumer trends and shifts in demand. Being able to integrate and leverage change through strategic innovation is an incredibly powerful skill that ensures longevity in the marketplace. \nIn this webinar\, Lewe Atkinson\, Senior Associate with the Impact Innovation Group\, will review the application of strategic innovation and how established businesses can use it to align themselves to take full advantage of disrupt changes within the market landscape.\nFind out the potential economic impact on businesses in Queensland\, as well as what skill development will be required to ensure your business takes advantage of the new technologies coming. \nAbout the Presenter \nLewe is a unique innovation and design-thinking professional and international Strategic Management facilitator. He has 30 years’ experience in knowledge production and transfer through both commercial and public-good innovation pathways to market. He started his boundary-spanning career in FMCG operations\, planning and research with Unifoods Australia. Lewe’s solid technical and financial grounding\, combined with a strong creative side\, enables him to see patterns\, pathways\, and solutions to drive innovation across numerous industries. \nMissed a webinar? You’ll find recordings of previous webinars on the Innovate Queensland YouTube channel.
URL:https://www.innovateqld.com/event/strategic-innovation-25-sep-18/
LOCATION:Online
CATEGORIES:Innovation Webinar
END:VEVENT
END:VCALENDAR