BEGIN:VCALENDAR
VERSION:2.0
PRODID:-//Innovate Queensland - ECPv5.6.0//NONSGML v1.0//EN
CALSCALE:GREGORIAN
METHOD:PUBLISH
X-WR-CALNAME:Innovate Queensland
X-ORIGINAL-URL:https://www.innovateqld.com
X-WR-CALDESC:Events for Innovate Queensland
BEGIN:VTIMEZONE
TZID:Australia/Brisbane
BEGIN:STANDARD
TZOFFSETFROM:+1000
TZOFFSETTO:+1000
TZNAME:AEST
DTSTART:20170101T000000
END:STANDARD
END:VTIMEZONE
BEGIN:VEVENT
DTSTART;TZID=Australia/Brisbane:20171004T120000
DTEND;TZID=Australia/Brisbane:20171004T130000
DTSTAMP:20260420T175533
CREATED:20170831T044657Z
LAST-MODIFIED:20170901T052304Z
UID:3124-1507118400-1507122000@www.innovateqld.com
SUMMARY:Webinar: Surviving the Valley of Death
DESCRIPTION:Presenter: Cameron Johns\nOrganisation: Impact Innovation Group \nThe journey between the discovery of an idea to a commercial product or service can be long and peppered with pitfalls – AKA the valley of death. \nMany small businesses hold back from investing in new ideas because they fear the return won’t be cost effective for them and will affect their hard-earned viability. Starting a new business around a novel idea is not for the faint-hearted either. \nBut launching an innovative technology can be exciting\, especially when your ideas draw the attention of your first few customers and the feedback is positive. \nThe challenge\, however\, lies in how to take these early wins and turn them into sustainable outcomes. Understanding your market and the value your innovation holds in your customer’s world is key to building a successful business model around your idea. \nIn this webinar\, Cameron Johns\, Innovation Strategist at Impact Innovation Group\, will explore the adoption of new ideas and what it takes to build momentum to make it across this commercialisation chasm. \nAbout the Presenter \nCameron Johns develops strategies for meeting the rapidly changing marketplace for all Australian enterprises at all stages of the business life-cycle. He has specialist skills in the execution of turn-around or realignment projects as well as capitalising on new markets or ideas. \nWith 20+ years as an innovation practitioner\, Cameron has helped numerous inventors\, start-ups and SMEs with business model development and capital raising. He has also facilitated collaborations between research organisations industry\, and empowered not-for-profits to generate commercial success and sustainability. He has managed and piloted programs centred on innovation\, advanced manufacturing\, science\, and technology to drive regional and national economic growth\, for Australian and international development outcomes. His network across state and federal governments has led to delivering programs on small business\, innovation\, and commercialisation. Cameron’s experience includes senior executive appointments\, board memberships\, business ownership and start-up director roles. \nMissed a webinar? You’ll find recordings of previous webinars on the Innovate Queensland YouTube channel.
URL:https://www.innovateqld.com/event/surviving-the-valley-of-death/
LOCATION:Online
CATEGORIES:GRID
END:VEVENT
END:VCALENDAR