BEGIN:VCALENDAR
VERSION:2.0
PRODID:-//Innovate Queensland - ECPv5.6.0//NONSGML v1.0//EN
CALSCALE:GREGORIAN
METHOD:PUBLISH
X-WR-CALNAME:Innovate Queensland
X-ORIGINAL-URL:https://www.innovateqld.com
X-WR-CALDESC:Events for Innovate Queensland
BEGIN:VTIMEZONE
TZID:Australia/Brisbane
BEGIN:STANDARD
TZOFFSETFROM:+1000
TZOFFSETTO:+1000
TZNAME:AEST
DTSTART:20180101T000000
END:STANDARD
END:VTIMEZONE
BEGIN:VEVENT
DTSTART;TZID=Australia/Brisbane:20181105T083000
DTEND;TZID=Australia/Brisbane:20181105T140000
DTSTAMP:20260421T073007
CREATED:20181012T005405Z
LAST-MODIFIED:20190507T222555Z
UID:4083-1541406600-1541426400@www.innovateqld.com
SUMMARY:The Viability to Value Workshop - Atherton
DESCRIPTION:Know what’s needed to turn ideas into income.\nHow do you know if an idea could become income?\nHow is generating value from a new idea different to making more sales from existing products\, services\, processes and business models? \nTurning ideas into profitable ventures — entrepreneurship and commercialisation — is not just about start-ups and digital technologies. Thousands of Australian small businesses are thriving because they’ve adopted innovation as a growth strategy driver.\nBut having a clever idea isn’t enough. You need the right business model and a clear value proposition to lift it from the drawing board and launch it onto the market.\nIf you’ve got fresh ideas that might translate into competitive-edge\, value-adding innovation\, this free half-day workshop will help you determine if they’re likely to become viable ventures. \nThe Viability to Value Workshop looks at: \n\nUnderstanding the idea to income process\n(commercialisation)\nPotential pathways to income streams\nCreating and protecting intellectual assets\nThinking and acting like an entrepreneur\nValue mapping\nVisualising viability (using the Business Model Canvas)\n\nMore than 1000 people have attended Innovate Queensland workshops and given them an overall satisfaction rating of 92%. In surveys\, nearly 60% have reported they’ve already taken their innovation plans further. That means they’re on their way to becoming more competitive and successful. \nAre you ready for value-rich\, viable ideas to drive your business growth? \nRegister now – see below for details. Registrations close 2 November\, unless all places have been taken sooner. \n 
URL:https://www.innovateqld.com/event/viability-to-value-atherton-5-nov-18/
LOCATION:Destiny Cafe\, 49-57 Loder St\, Atherton\, QLD\, 4883\, Australia
CATEGORIES:IQ,Skills Development
END:VEVENT
END:VCALENDAR