BEGIN:VCALENDAR
VERSION:2.0
PRODID:-//Innovate Queensland - ECPv5.6.0//NONSGML v1.0//EN
CALSCALE:GREGORIAN
METHOD:PUBLISH
X-WR-CALNAME:Innovate Queensland
X-ORIGINAL-URL:https://www.innovateqld.com
X-WR-CALDESC:Events for Innovate Queensland
BEGIN:VTIMEZONE
TZID:Australia/Brisbane
BEGIN:STANDARD
TZOFFSETFROM:+1000
TZOFFSETTO:+1000
TZNAME:AEST
DTSTART:20180101T000000
END:STANDARD
END:VTIMEZONE
BEGIN:VEVENT
DTSTART;TZID=Australia/Brisbane:20180315T120000
DTEND;TZID=Australia/Brisbane:20180315T124500
DTSTAMP:20260422T083028
CREATED:20180206T050215Z
LAST-MODIFIED:20180206T051746Z
UID:3590-1521115200-1521117900@www.innovateqld.com
SUMMARY:Webinar: Virtual and Augmented Reality - innovating interactions with your business
DESCRIPTION:Presenter: Lex van Cooten\nOrganisation: Immerse Enterprise \nWith Virtual Reality (VR) users worldwide predicted to surpass 170 million this year\, and Augmented Reality (AR) expected to have 1 billion users by 2020\, these technologies are no longer the realm of gamers and geeks. \nSmart businesses are introducing elements of VR and AR to their promotional and operational experiences for customers and employees to generate significant productivity and profitability outcomes. \nA recent ISACA survey found that up to 69% of consumers recognised the benefits of such technologies for learning new skills\, shopping\, and healthcare. \nDo you recognise the benefits for your business of innovating processes and services with VR and AR? \nFind out how these technologies can transform your business with some real help from Lex van Cooten\, Experience Architect and Imagineer at Immerse Enterprise. From construction to cars\, and tourism to tennis\, Lex will explain what the different technologies have to offer across a broad range of industries. \nAbout the Presenter \nImmersive multimedia developer Lex van Cooten channels his passion for cutting edge technology and its use in products which impact people’s lives towards connecting people and building experiences. \nA UQ Business School graduate and serial entrepreneur\, Lex co-founded the Brisbane Virtual Reality Club\, Immerse Academy\, and Immerse Enterprise. He currently designs and develops cutting edge Virtual Reality\, Augmented Reality and 360 Video experiences for corporate\, education and health clients such as Bupa\, Queensland Urban Utilities\, Endeavour Foundation\, Hyundai\, KPMG\, and Westfield. \nLex was a project manager with the UQ Robotics Club\, which connects students studying engineering with real world application opportunities locally and internationally. His role involved leadership in developing custom 3D printed bionic arms for the Queensland amputee community. \nMissed a webinar? You’ll find recordings of previous webinars on the Innovate Queensland YouTube channel. \n 
URL:https://www.innovateqld.com/event/virtual-reality-for-business-webinar/
LOCATION:Online
CATEGORIES:GRID
END:VEVENT
END:VCALENDAR